BEGIN:VCALENDAR
VERSION:2.0
PRODID:-//TYPO3/NONSGML Calendarize//EN
BEGIN:VEVENT
UID:calendarize-kreisvorstaendetreffen-33
DTSTAMP:20260423T221542Z
DTSTART:20260804T170000Z
DTEND:20260804T190000Z
SUMMARY:Kreisvorständetreffen
DESCRIPTION:
X-ALT-DESC;FMTTYPE=text/html:
LOCATION:Online
END:VEVENT
END:VCALENDAR
