BEGIN:VCALENDAR
VERSION:2.0
PRODID:-//TYPO3/NONSGML Calendarize//EN
BEGIN:VEVENT
UID:calendarize-kreisvorstaendetreffen-35
DTSTAMP:20260423T221511Z
DTSTART:20260901T170000Z
DTEND:20260901T190000Z
SUMMARY:Kreisvorständetreffen
DESCRIPTION:
X-ALT-DESC;FMTTYPE=text/html:
LOCATION:Online
END:VEVENT
END:VCALENDAR
