BEGIN:VCALENDAR
VERSION:2.0
PRODID:-//TYPO3/NONSGML Calendarize//EN
BEGIN:VEVENT
UID:calendarize-kreisvorstaendetreffen-36
DTSTAMP:20260423T221703Z
DTSTART:20260909T170000Z
DTEND:20260909T190000Z
SUMMARY:Kreisvorständetreffen
DESCRIPTION:Sondertreffen nach LTW LSA
X-ALT-DESC;FMTTYPE=text/html:Sondertreffen nach LTW LSA
LOCATION:
END:VEVENT
END:VCALENDAR
