BEGIN:VCALENDAR
VERSION:2.0
PRODID:-//TYPO3/NONSGML Calendarize//EN
BEGIN:VEVENT
UID:calendarize-kreisvorstaendetreffen-37
DTSTAMP:20260423T221949Z
DTSTART:20260915T170000Z
DTEND:20260915T190000Z
SUMMARY:Kreisvorständetreffen
DESCRIPTION:letztes Treffen vor der LTW MV
X-ALT-DESC;FMTTYPE=text/html:letztes Treffen vor der LTW MV
LOCATION:Online
END:VEVENT
END:VCALENDAR
