BEGIN:VCALENDAR
VERSION:2.0
PRODID:-//TYPO3/NONSGML Calendarize//EN
BEGIN:VEVENT
UID:calendarize-lavo-praesidiums-sitzung
DTSTAMP:20260423T221306Z
DTSTART:20260603T160000Z
DTEND:20260603T180000Z
SUMMARY:LaVo-Präsidiums-Sitzung
DESCRIPTION:
X-ALT-DESC;FMTTYPE=text/html:
LOCATION:Online
END:VEVENT
END:VCALENDAR
