BEGIN:VCALENDAR
VERSION:2.0
PRODID:-//TYPO3/NONSGML Calendarize//EN
BEGIN:VEVENT
UID:calendarize-lavo-praesidiumssitzung-praesenz
DTSTAMP:20260423T221740Z
DTSTART:20260605T160000Z
DTEND:20260605T180000Z
SUMMARY:LaVo-Präsidiumssitzung präsenz
DESCRIPTION:
X-ALT-DESC;FMTTYPE=text/html:
LOCATION:
END:VEVENT
END:VCALENDAR
