BEGIN:VCALENDAR
VERSION:2.0
PRODID:-//TYPO3/NONSGML Calendarize//EN
BEGIN:VEVENT
UID:calendarize-lavo-sitzung-13
DTSTAMP:20260423T221414Z
DTSTART:20260624T180000Z
DTEND:20260624T200000Z
SUMMARY:LaVo-Sitzung
DESCRIPTION:
X-ALT-DESC;FMTTYPE=text/html:
LOCATION:
END:VEVENT
END:VCALENDAR
