BEGIN:VCALENDAR
VERSION:2.0
PRODID:-//TYPO3/NONSGML Calendarize//EN
BEGIN:VEVENT
UID:calendarize-lavo-sitzung-15
DTSTAMP:20260423T222416Z
DTSTART:20260722T180000Z
DTEND:20260722T200000Z
SUMMARY:LaVo-Sitzung
DESCRIPTION:
X-ALT-DESC;FMTTYPE=text/html:
LOCATION:
END:VEVENT
END:VCALENDAR
