BEGIN:VCALENDAR
VERSION:2.0
PRODID:-//TYPO3/NONSGML Calendarize//EN
BEGIN:VEVENT
UID:calendarize-mehr-als-nur-eine-technische-frage-waermeplanung-in-kleine
 n-und-mittleren-kommunen
DTSTAMP:20260423T221837Z
DTSTART:20260528T163000Z
DTEND:20260528T183000Z
SUMMARY:Mehr als nur eine technische Frage! … Wärmeplanung in kleinen u
 nd mittleren Kommunen
DESCRIPTION:Welche Vorteile\, bringt eine Wärmeplanung für kleine und mi
 ttlere Gemeinden? Was beinhaltet eine Wärmeplanung? Wie startet man eine 
 Wärmeplanung und wie läuft sie ab? Was kostet das\, und wie lange dauert
  die Erstellung? Wer sollte bei der Erstellung des Wärmeplans mitreden? W
 ie organisiert man Akzeptanz in der Bevölkerung\, dem Gemeinderat und der
  Verwaltung für das zukunftsweisende Konzept? \nMit diesen Fragen beschä
 ftigt sich das Webinar mit dem Ziel\, Kommunalpolitiker*innen\, Verwaltung
 smitarbeitende und interessierte Bürger*innen aus kleinen und mittleren K
 ommunen fit zu machen für die Diskussion über die Wärmeplanung bei sich
  vor Ort. \nDenn: Kleine und mittlere Kommunen (100.000 – 10.000 Einwohn
 ende) müssen laut Gesetz ihre Wärmeplanungen bis zum 30. Juni 2028 erste
 llen. Viele von ihnen haben jedoch bisher noch nicht damit begonnen. Und: 
 Wärmeplanung ist mehr als eine rein technische Frage\, es geht auch um Ak
 zeptanz\, Kooperationen und Kommunalpolitik. \n\nDas Wärmeplanungsgesetz 
 (WPG) des Bundes verpflichtet seit 2023 die Bundesländer dazu\, ihre Komm
 unen zu veranlassen\, für ihr Gemeindegebiet CO2-freie bzw. klimaneutrale
  Wärmeversorgungslösungen zu prüfen und entsprechende Wärmeversorgungs
 gebiete für klimafreundlichen Heizungsarten auszuweisen und diese mit den
  Energieversorgern vor Ort abzustimmen. Die kommunale Wärmeplanung hat da
 s Ziel\, Wohnungen\, Büros und Gewerbeflächen in Zukunft umweltfreundlic
 h\, preisstabil und zuverlässig mit Wärme zu versorgen.\n\nAls Experten 
 und Diskutanten haben wir eingeladen:\n\nDr. Dorian Holtz von Theta Concep
 ts\, ein bundesweit erfahrenes Beratungsunternehmen aus Rostock\, um über
  ihre Herangehensweise und Erfahrungen mit Wärmeplanungen für Kommunen z
 u berichten.\n\nJörg König\, Mitarbeiter des Landesverband Erneuerbare E
 nergien e.V. (LEE M-V) und Bürgerschaftsmitglied in Greifswald\, der eine
 n kurzen Überblick über den Stand der Wärmeplanungen in M-V gibt.\n\nNa
 ch einem Input von ca. 45 Minuten gibt es ausreichend Zeit für Fragen und
  Diskussion.\n\nDas Webinar wird ist eine gemeinsame Veranstaltung von Grü
 nes Forum und der LAG Planen\, Leben\, Baukultur von BÜNDNIS 90/DIE GRÜN
 EN MV.\nAnmeldelink: https://gruenes-forum.de/veranstaltungen/waermeplanun
 g-in-kleinen-und-mittleren-kommunen/
X-ALT-DESC;FMTTYPE=text/html:Welche Vorteile\, bringt eine Wärmeplanung f
 ür kleine und mittlere Gemeinden? Was beinhaltet eine Wärmeplanung? Wie 
 startet man eine Wärmeplanung und wie läuft sie ab? Was kostet das\, und
  wie lange dauert die Erstellung? Wer sollte bei der Erstellung des Wärme
 plans mitreden? Wie organisiert man Akzeptanz in der Bevölkerung\, dem Ge
 meinderat und der Verwaltung für das zukunftsweisende Konzept? \nMit dies
 en Fragen beschäftigt sich das Webinar mit dem Ziel\, Kommunalpolitiker*i
 nnen\, Verwaltungsmitarbeitende und interessierte Bürger*innen aus kleine
 n und mittleren Kommunen fit zu machen für die Diskussion über die Wärm
 eplanung bei sich vor Ort. \nDenn: Kleine und mittlere Kommunen (100.000 –
  10.000 Einwohnende) müssen laut Gesetz ihre Wärmeplanungen bis zum 30. 
 Juni 2028 erstellen. Viele von ihnen haben jedoch bisher noch nicht damit 
 begonnen. Und: Wärmeplanung ist mehr als eine rein technische Frage\, es 
 geht auch um Akzeptanz\, Kooperationen und Kommunalpolitik. \n\nDas Wärme
 planungsgesetz (WPG) des Bundes verpflichtet seit 2023 die Bundesländer d
 azu\, ihre Kommunen zu veranlassen\, für ihr Gemeindegebiet CO2-freie bzw
 . klimaneutrale Wärmeversorgungslösungen zu prüfen und entsprechende Wä
 rmeversorgungsgebiete für klimafreundlichen Heizungsarten auszuweisen und
  diese mit den Energieversorgern vor Ort abzustimmen. Die kommunale Wärme
 planung hat das Ziel\, Wohnungen\, Büros und Gewerbeflächen in Zukunft u
 mweltfreundlich\, preisstabil und zuverlässig mit Wärme zu versorgen.\n\
 nAls Experten und Diskutanten haben wir eingeladen:\n\nDr. Dorian Holtz vo
 n Theta Concepts\, ein bundesweit erfahrenes Beratungsunternehmen aus Rost
 ock\, um über ihre Herangehensweise und Erfahrungen mit Wärmeplanungen f
 ür Kommunen zu berichten.\n\nJörg König\, Mitarbeiter des Landesverband
  Erneuerbare Energien e.V. (LEE M-V) und Bürgerschaftsmitglied in Greifsw
 ald\, der einen kurzen Überblick über den Stand der Wärmeplanungen in M
 -V gibt.\n\nNach einem Input von ca. 45 Minuten gibt es ausreichend Zeit f
 ür Fragen und Diskussion.\n\nDas Webinar wird ist eine gemeinsame Veranst
 altung von Grünes Forum und der LAG Planen\, Leben\, Baukultur von BÜNDN
 IS 90/DIE GRÜNEN MV.\nAnmeldelink: https://gruenes-forum.de/veranstaltung
 en/waermeplanung-in-kleinen-und-mittleren-kommunen/
LOCATION:Online
END:VEVENT
END:VCALENDAR
